Workbook
Name \a: #REF!
Name \c: #REF!
Name \S: '[1]ANNEX 2'!#REF!
Name \z: #REF!
Name _____________________A165536: #REF!
Name ____________________A165536: #REF!
Name ____________________xlnm._FilterDatabase_1: #REF!
Name ____________________xlnm._FilterDatabase_1_1: #REF!
Name ____________________xlnm._FilterDatabase_1_2: #REF!
Name ____________________xlnm._FilterDatabase_1_3: #REF!
Name ____________________xlnm._FilterDatabase_1_4: #REF!
Name ____________________xlnm._FilterDatabase_1_5: #REF!
Name ____________________xlnm._FilterDatabase_2: #REF!
Name ____________________xlnm._FilterDatabase_2_1: #REF!
Name ____________________xlnm._FilterDatabase_2_2: #REF!
Name ____________________xlnm._FilterDatabase_2_3: #REF!
Name ____________________xlnm._FilterDatabase_2_4: #REF!
Name ____________________xlnm._FilterDatabase_2_5: #REF!
Name ____________________xlnm._FilterDatabase_3: #REF!
Name ____________________xlnm._FilterDatabase_3_1: #REF!
Name ____________________xlnm._FilterDatabase_3_2: #REF!
Name ____________________xlnm._FilterDatabase_3_3: #REF!
Name ____________________xlnm._FilterDatabase_3_4: #REF!
Name ____________________xlnm._FilterDatabase_3_5: #REF!
Name ____________________xlnm._FilterDatabase_4: #REF!
Name ____________________xlnm._FilterDatabase_4_1: #REF!
Name ____________________xlnm._FilterDatabase_4_2: #REF!
Name ____________________xlnm._FilterDatabase_4_3: #REF!
Name ____________________xlnm._FilterDatabase_4_4: #REF!
Name ____________________xlnm._FilterDatabase_4_5: #REF!
Name ____________________xlnm._FilterDatabase_5: #REF!
Name ____________________xlnm._FilterDatabase_5_1: #REF!
Name ____________________xlnm._FilterDatabase_5_2: #REF!
Name ____________________xlnm._FilterDatabase_5_3: #REF!
Name ____________________xlnm._FilterDatabase_5_4: #REF!
Name ____________________xlnm._FilterDatabase_5_5: #REF!
Name ____________________xlnm._FilterDatabase_6: #REF!
Name ____________________xlnm._FilterDatabase_6_1: #REF!
Name ____________________xlnm._FilterDatabase_6_2: #REF!
Name ____________________xlnm._FilterDatabase_6_3: #REF!
Name ____________________xlnm._FilterDatabase_6_4: #REF!
Name ____________________xlnm._FilterDatabase_6_5: #REF!
Name ____________________xlnm._FilterDatabase_7: #REF!
Name ____________________xlnm._FilterDatabase_7_1: #REF!
Name ____________________xlnm._FilterDatabase_7_2: #REF!
Name ____________________xlnm._FilterDatabase_7_3: #REF!
Name ____________________xlnm._FilterDatabase_7_4: #REF!
Name ____________________xlnm._FilterDatabase_7_5: #REF!
Name ____________________xlnm.Print_Area_1_1: #REF!
Name ____________________xlnm.Print_Area_1_2: #REF!
Name ____________________xlnm.Print_Area_1_3: #REF!
Name ____________________xlnm.Print_Area_1_4: #REF!
Name ____________________xlnm.Print_Area_1_5: #REF!
Name ____________________xlnm.Print_Area_10: #REF!
Name ____________________xlnm.Print_Area_10_1: #REF!
Name ____________________xlnm.Print_Area_10_2: #REF!
Name ____________________xlnm.Print_Area_10_3: #REF!
Name ____________________xlnm.Print_Area_10_4: #REF!
Name ____________________xlnm.Print_Area_10_5: #REF!
Name ____________________xlnm.Print_Area_11: #REF!

Sheet Gen-Sum
A1: ='Civil Est.-Sum'!A1:C1 -> CHATTARPUR TEMPLE
A2: RENOVATION OF THE BASEMENT HALL AT THE MAA MAHESASUR MARDANI MANDIR.
A3: Civil, electrical, and plumbing work; elevators and associated civil work; installation of PVC wall panelling and artificial grass;
A4: GENERAL SUMMARY
A5: S.NO. | B5: DESCRIPTION | C5: AMOUNT
A6: A | B6: CIVIL WORKS
A7: 1 | B7: RENOVATION OF THE BASEMENT HALL | C7: ='Civil Est.-Sum'!C12 -> 0
B8: TOTAL (A) | C8: =SUM(C7:C7) -> 0
B10: TOTAL AMOUNT | C10: =C8 -> 0
B11: ADD : GST 18% | C11: =ROUND(C10*18%,0) -> 0
B12: TOTAL AMOUNT (INCLUSIVE GST) | C12: =C10+C11 -> 0

Sheet Civil Est.-Sum
A1: ='Flooring BOQ'!A1:E1 -> CHATTARPUR TEMPLE
A2: SUMMARY
A3: RENOVATION OF THE BASEMENT HALL AT THE MAA MAHESASUR MARDANI MANDIR.
A4: S.NO. | B4: DESCRIPTION
B5: ='Flooring BOQ'!B4 -> CIVIL WORKS | C5: ='Flooring BOQ'!D4 -> TEMPLE | D5: Rate Per Sqm | E5: Rate Per Sqft
B6: ='Flooring BOQ'!B5 -> CONSTRUCTED AREA | C6: ='Flooring BOQ'!D5 -> 557
A7: A | B7: FLOORING WORK (INCLUDING THE COST OF THE PVC WALL PANELING AND ARTIFICIAL GRASS WORK) | C7: ='Flooring BOQ'!F20 -> 0 | D7: =C7/C6 -> 0 | E7: =D7/10.764 -> 0
A8: B | B8: CIVIL WORK (INCLUDING THE COST OF THE LIFT CIVIL WORK) | C8: ='Civil work. '!F71 -> 0 | D8: =C8/C6 -> 0 | E8: =D8/10.764 -> 0
A9: C | B9: PLUMBING WORKS | C9: ='PLUMBING EST'!I235 -> 0 | D9: =C9/C6 -> 0 | E9: =D9/10.764 -> 0
A10: C | B10: ELECTRICAL WORKS INCLUDING THE COST OF THE LIFT | C10: ='ELECTRICAL ESTIMATE '!F74 -> 0 | D10: =C10/C6 -> 0 | E10: =D10/10.764 -> 0
B12: TOTAL AMOUNT | C12: =SUM(C7:C11) -> 0 | D12: =SUM(D7:D11) -> 0 | E12: =SUM(E7:E11) -> 0

Sheet Civil work. 
A1: CHATTARPUR SCHOOL RAMP
A2: ESTIMATE FOR CIVIL WORKS
A3: S.NO. | B3: DESCRIPTION | C3: UNIT | D3: QUANTITY | E3: RATE | F3: AMOUNT
B4: CIVIL WORKS | D4: BLOCK | F4: =D4 -> BLOCK
B5: CONSTRUCTED AREA | C5: SQM | D5: 51
A7: A | B7: CONCRETE AND REINFORCEMENT WORKS
A8: 1 | B8: Providing & laying PCC 1:5:10 (1 cement : 5 coarse sand : 10 graded stone aggregate 20mm nominal size) for foundation and under floor including the cost of centring and shuttering. | C8: Cum | F8: =IF(D8="R.O",0,SUM($E8*D8)) -> 0
A9: =A8+1 -> 2 | B9: Providing & laying PCC 1:4:8 (1 cement : 4 coarse sand : 8 graded stone aggregate 20mm nominal size) for foundation and under floor including the cost of centring and shuttering. | C9: Cum | F9: =IF(D9="R.O",0,SUM($E9*D9)) -> 0
A10: =+A9+1 -> 3 | B10: Providing & laying RCC M-25 with minimum cement contents 340 Kg per cum excluding cost of centering, shuttering and reinforcement but including mechanically mixing, vibrating, curing etc. complete at all floors, heights and levels . | F10: =IF(D10="R.O",0,SUM($E10*D10)) -> 0
A11: a) | B11: Foundations, rafts, pedestals, grade slab, plinth beams etc. | C11: Cum | D11: 12 | F11: =IF(D11="R.O",0,SUM($E11*D11)) -> 0
A12: b) | B12: Beams of all shapes, bracket, lintels, suspended floors, roof slabs having slope upto 15°, landings, shelves, balconies, chajjas, bands, window sills, staircases (stepped and spiral type staircases etc.) | C12: Cum | D12: 7 | F12: =IF(D12="R.O",0,SUM($E12*D12)) -> 0 | J12: =55*1.18 -> 64.9
A13: c) | B13: Columns, pillars, posts and struts, piers, walls (any thickness) etc. | C13: Cum | D13: 5 | F13: =IF(D13="R.O",0,SUM($E13*D13)) -> 0
A14: d) | B14: Staircase with waist slab and steps | C14: Cum | F14: =IF(D14="R.O",0,SUM($E14*D14)) -> 0
A15: e) | B15: Machine foundation | C15: Cum | F15: =IF(D15="R.O",0,SUM($E15*D15)) -> 0
A16: f) | B16: Beams in semi circular shape | C16: Cum | F16: =IF(D16="R.O",0,SUM($E16*D16)) -> 0
A17: =A10+1 -> 4 | B17: Extra for Concrete Grade M 30 with minimum cement contents 360 Kg per cum | C17: Cum | F17: =IF(D17="R.O",0,SUM($E17*D17)) -> 0
A18: =A17+1 -> 5 | B18: Extra for Concrete Grade M 40 with minimum cement contents 380 Kg per cum | C18: Cum | F18: =IF(D18="R.O",0,SUM($E18*D18)) -> 0
A19: 6 | B19: Providing & fixing formwork/ centering & shuttering work for all RCC elements, madeup of ordinary timber planks,plywood sheets with battens, steel plates etc.Including supports of wooden props, ms pipes or elements and Scaffolding system etc. Including all accessories,nails ,ties,binders etc. complete. to gets even finish of allelements up to required height complete. as directed and as per drawings & details etc. | F19: =IF(D19="R.O",0,SUM($E19*D19)) -> 0
A20: a) | B20: Foundations, footings, bases of columns, pedestals, plinth beam and raft etc. | C20: Sqm | D20: 2 | F20: =IF(D20="R.O",0,SUM($E20*D20)) -> 0
A21: b) | B21: Slabs, suspended floor, roofs, flat slab landings, shelves and chajja, etc. | C21: Sqm | D21: 8 | F21: =IF(D21="R.O",0,SUM($E21*D21)) -> 0
A22: c) | B22: Lintels, beams, bracket, girders, bressumers and cantilevers. | C22: Sqm | D22: 49 | F22: =IF(D22="R.O",0,SUM($E22*D22)) -> 0
A23: d) | B23: Columns, pillars, posts and struts, piers, walls (any thickness) etc. | C23: Sqm | D23: 259 | F23: =IF(D23="R.O",0,SUM($E23*D23)) -> 0
A24: e) | B24: Staircase with waist slab and steps | C24: Sqm | F24: =IF(D24="R.O",0,SUM($E24*D24)) -> 0
A25: f) | B25: Machine foundation | C25: Sqm | F25: =IF(D25="R.O",0,SUM($E25*D25)) -> 0
A26: g) | B26: Beams in semi circular shape | C26: Sqm | F26: =IF(D26="R.O",0,SUM($E26*D26)) -> 0
A27: =A19+1 -> 7 | B27: Providing & laying reinforcements high yield strength of various diameters of following grades conforming to IS code 1786 (Latest Revision) for reinforced concrete work including cutting, bending, binding with annealed 18G MS binding wire, placing in position according to drawings. (Rate shall include cost of binding wire, cover blocks, etc.) | F27: =IF(D27="R.O",0,SUM($E27*D27)) -> 0
A28: a) | B28: Grade Fe 500 | C28: MT | D28: 1 | F28: =IF(D28="R.O",0,SUM($E28*D28)) -> 0
A29: =A27+1 -> 8 | B29: Providing and laying damp proof course 40mm thick with cement concrete M-25 including shuttering, providing and mixing waterproofing material in cement concrete work @ 1 kg. per bag of cement. | C29: Sqm | F29: =IF(D29="R.O",0,SUM($E29*D29)) -> 0
A30: =A29+1 -> 9 | B30: Providing and laying 20mm thick vertical damp proof course comprising cement plaster in cement mortar 1:5 mixed with waterporrf compound of approved make as per manufacturer specification finished with floating coat of neat cement (10 Kg. cement / Sqm) complete. | C30: Sqm | F30: =IF(D30="R.O",0,SUM($E30*D30)) -> 0
A31: =A30+1 -> 10 | B31: Supplying & laying cinder cocrete 1 : 15 ( 1 cement : 15 cinder 12.5 mm nominal size ) in sunken portion including minimum compaction complete. | C31: Cum | F31: =IF(D31="R.O",0,SUM($E31*D31)) -> 0
A32: =A31+1 -> 11 | B32: Providing and laying Plum concrete of 1:4:8 concrete comprising of following:- | C32: Cum | F32: =IF(D32="R.O",0,SUM($E32*D32)) -> 0
A33: a) | B33: 1st layer of 100mm thk 1:4:8 to be laid. | F33: =IF(D33="R.O",0,SUM($E33*D33)) -> 0
A34: b) | B34: 2nd layer comprising of 200-250mm Boulder to be laid over 1st layer covering 50% of the area by slaggend way the balance area to be filled with 40mm down aggregate in such a way that at least 25% area to be left as voids where shall be filled with PCC 1:4:8 (20mm down aggregate) concrete to be much vibrated so that the voids shall be filled in proper manner. | F34: =IF(D34="R.O",0,SUM($E34*D34)) -> 0
A35: c) | B35: Layer 1 and Layer 2 to be repeated in the same sequence till the area is filled up to the required level. | F35: =IF(D35="R.O",0,SUM($E35*D35)) -> 0
A37: 0 | B37: TOTAL TO SUMMARY | C37: 0 | F37: =SUM(F8:F36) -> 0
A38: B | B38: BRICK/BLOCK WORKS | C38: 0
A39: 1 | B39: Providng and laying brick work in cement mortar 1:5 (1 cement : 5 coarse sand) using common burnt clay FPS bricks of class designation 7.5 in foundation upto plinth level including raking out joints & curing etc. | C39: Cum | F39: =IF(D39="R.O",0,SUM($E39*D39)) -> 0
A40: =A39+1 -> 2 | B40: Providng and laying brick work in cement mortar 1:6 (1 cement : 6 coarse sand) using common burnt clay FPS bricks of class designation 7.5 in super structure all complete upto all height and level. | C40: Cum | D40: 30 | F40: =IF(D40="R.O",0,SUM($E40*D40)) -> 0
A41: =A40+1 -> 3 | B41: Providing and laying half brick work in cement mortar 1:4 of common burnt clay FPS bricks of class designation 7.5 in superstructure including using 2 Nos - 6mm dia hoop iron after every third coarse. | C41: Sqm | D41: 34 | F41: =IF(D41="R.O",0,SUM($E41*D41)) -> 0
A42: =A41+1 -> 4 | B42: Providing and laying brick work in cement mortar 1:4 using common burnt clay FPS bricks of class designation 7.5 in staircase steps including cutting, chamfering of bricks etc. complete. | C42: Cum | F42: =IF(D42="R.O",0,SUM($E42*D42)) -> 0
...

Sheet Flooring BOQ
A1: CHATTARPUR TEMPLE
A2: ESTIMATE FOR CIVIL WORKS
A3: S.NO. | B3: DESCRIPTION | C3: UNIT | D3: QUANTITY | E3: RATE | F3: AMOUNT
B4: CIVIL WORKS | D4: TEMPLE | F4: =D4 -> TEMPLE
B5: CONSTRUCTED AREA | C5: SQM | D5: 557
A7: A | B7: FLOORING WORKS | C7: 0
A8: 1 | B8: Providing & fixing 20mm thick pre-polished Italian Marble cladding of approved shade and pattern on RCC/brick column surfaces, fixed with approved stainless steel cramps/anchors and backing mortar/adhesive as required, including machine cutting, edge polishing, chamfering, grooves (where specified), filling joints with white cement mixed with matching marble pigment, scaffolding, and all necessary accessories, complete in all respects as per approved drawings and the instructions of the Engineer-in-Charge. The rate shall include cutting, polishing, edge finishing, fixing hardware, and all incidental works.[Basic Rate Rs.400/- per Sqft] | C8: Sqm | D8: 44 | F8: =IF(D8="R.O",0,SUM($E8*D8)) -> 0
A9: =A8+1 -> 2 | B9: Providing & laying in floor matt finish ceramic tiles without warpage, of approved make, colour and size, laid on 20mm thick cement mortar 1:4 (1 cement : 4 coarse sand) including grouting the joints with white cement and matching pigment etc. complete (Basic rate Rs.48/- per Sft). | C9: Sqm | D9: 209 | F9: =IF(D9="R.O",0,SUM($E9*D9)) -> 0
A10: =A9+1 -> 3 | B10: Providing & laying tile work in skirting and dado over 12mm thick bed of cement mortar 1:3 ( 1 cement : 3 coarse sand) and jointed with grey cement slurry @ 3.3 kg/sqm including pointing in white cement mixed with pigment of matching shade complete (Basic rate Rs.48/- per Sft). | F10: =IF(D10="R.O",0,SUM($E10*D10)) -> 0
A11: a) | B11: Ceramic tiles (as per manufacturer's specifications) | C11: Sqm | D11: 80 | F11: =IF(D11="R.O",0,SUM($E11*D11)) -> 0
A12: b) | B12: Providing and fixing of Highlighter in cladding with a Base Plaster of 20 to 25mm thickness Including the Epoxy Grout etc. complete as directed. (The basic rate of tiles shall be Rs 100/-Per Rft). | C12: Rmt | F12: =IF(D12="R.O",0,SUM($E12*D12)) -> 0
A13: =A10+1 -> 4 | B13: Providing & laying minimum 20mm thk Granite stone slabs of any size, of uniform shade in flooring and landing laid over 20mm thick base of cement of 1:4 (1 cement : 4 coarse sand) jointed with white cement slurry i/c rubbing, polishing & rounding of edges / nosing etc. complete as per specifications. (Basic Cost of Material Rs.180/Sft) | F13: =IF(D13="R.O",0,SUM($E13*D13)) -> 0
A14: a) | B14: Flooring and landing | C14: Sqm | F14: =IF(D14="R.O",0,SUM($E14*D14)) -> 0
A15: b) | B15: Wall cladding/skirting | C15: Sqm | F15: =IF(D15="R.O",0,SUM($E15*D15)) -> 0
A16: c) | B16: Same as above but on staircase steps and riser of approved shade. | C16: Sqm | F16: =IF(D16="R.O",0,SUM($E16*D16)) -> 0
A17: =A13+1 -> 5 | B17: Providing and laying 10mm thk vitrefied tiles in floor without warpage, of approved make, colour and size, laid on 20mm thick cement mortar 1:4 (1 cement : 4 coarse sand) including grouting the joints with white cement and matching pigment etc. complete in all respects as per manufacturer's specifications. [Basic Rate Rs.59/- per Sft] | C17: Sqm | D17: 376 | F17: =IF(D17="R.O",0,SUM($E17*D17)) -> 0
A18: a) | B18: Specifications same as above but in skirting/Dado. | C18: Sqm | D18: 106 | F18: =IF(D18="R.O",0,SUM($E18*D18)) -> 0
A19: 6 | B19: Providing and fixing PVC wall panel of approved make, design, colour, texture and thickness, including all necessary framework/support, adhesive, screws, fasteners, trims, corner profiles, jointing and edge finishing, cutting and fitting to required sizes, and all labour, tools, tackles, scaffolding and incidental works, complete in all respects as per approved sample, manufacturer’s specifications and as directed by the Engineer-in-Charge. | C19: Sqm | D19: 281 | F19: =IF(D19="R.O",0,SUM($E19*D19)) -> 0
A20: 0 | B20: TOTAL TO SUMMARY | C20: 0 | F20: =SUM(F8:F19) -> 0
A22: 0 | B22: GRAND TOTAL | C22: 0 | F22: =SUM(F7:F20)/2 -> 0

Sheet PLUMBING EST
A2: BILL OF QUANTITIES ( TOILET )
A3: SR. NO. | B3: BOQ ID | C3: BOQ NAME | D3: DESCRIPTION | E3: NOTES | F3: UOM | G3: QUANTITY | H3: RATE | I3: AMOUNT
D4: Covered Area (Sqm)
C5: Notes | D5: Notes
C6: Notes | D6: The Items with basic rate to be confirmed wrt tender/contract/work order and procurement of materials for items with basic rates to be initiated only after prior approval from procurement/contracts team.
C7: Notes | D7: Contractor to ensure that all the debris, unsued material is removed from work area on regular basis and area is cleaned after completion of work in the area/section.
C8: Notes | D8: Contractor to ensure that the finished work is protected against damages with proper covering/protecting material till handover of the works/project.
C9: Notes | D9: In case of fabrication works, Contractor to submit shop drawing for approval and start the work only after approval of shop drawings.
C10: Notes | D10: Prior to commmcement of painting works contractor to ensure that the colour code is approved by Client's Architect
C11: Notes | D11: Samples of all flooring, tiling, granite, CP & sanitary fittings, glasss, ACP, window, facade and any other finishing material as specified in the BOQ elsewhere shall be procured only after obtaining approval from Client's Architect.
C12: Notes | D12: All the flooring material shall be of FIRST QUALITY & free from any cracks / deformities / damages colour variations /Undulations etc
C13: Notes | D13: The contractor should furnish detailed work methodology prior to commencement of work for approval of Project Manager/ Architect for all water proofing work as directed.
C14: Notes | D14: All water proofing work shall be demonstrated to be 100% water tight and covered by 10 years guarantee in writing, on stamp paper.
C15: Notes | D15: All the items of work in the schedule of rates shall be carried out as per specifications, drawings and instructions of the Engineer‑in‑Charge
B16: WORK-CATEGORY : CIVIL WORKS | C16: WORK-CATEGORY : CIVIL WORKS
A17: A | C17: SUPERSTRUCTURE | D17: SUPERSTRUCTURE
A18: 1 | C18: Plain cement concrete | D18: Plain cement concrete
C19: Plain Cement Concrete | D19: Providing & laying in position machine mixed and machine vibrated M10 grade controlled cement concrete in all locations, at all levels, of any shape and size as per draw ings, conforming to IS 456-2000; rate to include mix design, production, pouring concrete w ith pump, vibrating, finishing, curing, testing complete as per specifications, draw ings and instructions. Rate to also include rectification and repairing of defects as per specifications and instructions as directed. Shuttering to be paid separately. Basic rate is landed price of material at site including unloading and all applicable taxes.( Note :-Cement Base Rate 225/- per Bag) | F19: Cum | I19: =ROUND(IF(G19="R.O",0,SUM($H19*G19)),0) -> 0
A20: 2 | C20: Reinforced cement concrete | D20: Reinforced cement concrete | I20: =ROUND(IF(G20="R.O",0,SUM($H20*G20)),0) -> 0
C21: Notes | D21: Note :-Scope of work under the concrete works item requires the contractor to carry out the work within specified tolerancies, rectify the defective concrete, grinding if required to remove the extra lumps from the RCC members, maintain specified levels of RCC members, remove all the shuttering material, nails etc. and hand over the site in a clean, vacant state; re-prop the slabs if they are to support extra loads than the design loads during construction of slabs above it till the time they are subjected to the extra loads. It also requires the contractor to implement health and safety measures to protect the work and human life by barricading the openings, edges, removing hazardous obstacles, providing lighting and signage till the completion of the overall work in his scope. No site mix concrete shall be allowed. Concrete shall be allowed through automated batching plant set up at site or outside RMC plant. | I21: =ROUND(IF(G21="R.O",0,SUM($H21*G21)),0) -> 0
A22: 2.1 | C22: Reinforced cement concrete | D22: Providing and laying in position design mixed reinforced cement concrete of Grade as mentioned below manufactured in automatic batching plant and transported to work location in transit mixer for all leads having continuous agitated mixer, manufactured as per approved design mix for all RCC works at all locations, of any shape and size, using graded stone aggregates of maximum 20mm nominal size obtained from approved quarry, coarse sand conforming to latest IS : 383 and cement as per approved design mix proportions conforming to latest IS : 456 including providing & mixing of admixtures in recommended proportions as per IS 9103 to accelerate / retard setting of concrete, improve workability without impairing strength and durability, including mix design, production, pumping if required, vibrating, finishing to required levels, curing, dewatering if required, all levels and heights, roughening and or hacking exposed concrete surfaces for key for plastering, grinding with carborandum stones over concrete spills / level difference in joints of concrete, testing, concreting in delayed pour strip. Rate also to include treating construction joints with approved construction chemicals, rectification and repairing of defects as per specifications and instructions etc. all complete as per drawings, specifications as directed. (Excluding the cost of centering, shuttering and steel reinforcement) | I22: =ROUND(IF(G22="R.O",0,SUM($H22*G22)),0) -> 0
A23: 2.1.1 | C23: In walls, In columns in a square / rectangular profile, In slabs, floor beams & lintel beams etc. | D23: In walls, In columns in a square / rectangular profile, In slabs, floor beams & lintel beams etc. | I23: =ROUND(IF(G23="R.O",0,SUM($H23*G23)),0) -> 0
A24: 2.1.1.1 | C24: Grade of concrete M-25 | D24: Grade of concrete M-25 | F24: Cum | I24: =ROUND(IF(G24="R.O",0,SUM($H24*G24)),0) -> 0
A25: 2.1.1.2 | C25: Grade of concrete M-30 | D25: Grade of concrete M-30 | F25: Cum | I25: =ROUND(IF(G25="R.O",0,SUM($H25*G25)),0) -> 0
A26: 2.1.1.3 | C26: Grade of concrete M-35 | D26: Grade of concrete M-35 | F26: Cum | I26: =ROUND(IF(G26="R.O",0,SUM($H26*G26)),0) -> 0
A27: 2.1.1.4 | C27: Grade of concrete M-40 | D27: Grade of concrete M-40 | F27: Cum | I27: =ROUND(IF(G27="R.O",0,SUM($H27*G27)),0) -> 0
A28: 2.1.2 | C28: In wall stiffeners & bands, sills, copings, bunds etc. | D28: In wall stiffeners & bands, sills, copings, bunds etc. | I28: =ROUND(IF(G28="R.O",0,SUM($H28*G28)),0) -> 0
A29: 2.1.2.1 | C29: Grade of concrete M-25 | D29: Grade of concrete M-25 | F29: Cum | I29: =ROUND(IF(G29="R.O",0,SUM($H29*G29)),0) -> 0
A30: 2.1.2.2 | C30: Grade of concrete M-30 | D30: Grade of concrete M-30 | F30: Cum | I30: =ROUND(IF(G30="R.O",0,SUM($H30*G30)),0) -> 0
A31: 2.1.2.3 | C31: Grade of concrete M-35 | D31: Grade of concrete M-35 | F31: Cum | I31: =ROUND(IF(G31="R.O",0,SUM($H31*G31)),0) -> 0
A32: 2.1.2.4 | C32: Grade of concrete M-40 | D32: Grade of concrete M-40 | F32: Cum | I32: =ROUND(IF(G32="R.O",0,SUM($H32*G32)),0) -> 0
A33: 2.2 | C33: Precast lintels size 230mm x 150mm in RCC M25 grade | D33: Providing and laying Precast lintels size 230mm x 150mm in RCC M25 grade with necessary reinforcements as per approved design and details. Rate to be inclusive of curing, Scaffolding, Staging, Compaction, shuttering, reinforcement etc., all complete as per approved design, drawing, specification and as directed. | F33: Rmt | I33: =ROUND(IF(G33="R.O",0,SUM($H33*G33)),0) -> 0
A34: 2.3 | C34: Precast lintels size 115mm x 150mm in RCC M25 grade | D34: Providing and laying Precast lintels size 115mm x 150mm in RCC M25 grade with necessary reinforcements as per approved design and details. Rate to be inclusive of curing, Scaffolding, Staging, Compaction, shuttering, reinforcement etc., all complete as per approved design, drawing, specification and as directed. | F34: Rmt | I34: =ROUND(IF(G34="R.O",0,SUM($H34*G34)),0) -> 0
A35: 3 | C35: Shuttering | D35: Shuttering | I35: =ROUND(IF(G35="R.O",0,SUM($H35*G35)),0) -> 0
A36: 3.1 | C36: Centering & Shuttering Work | D36: Providing & fixing in position, Centering & Shuttering Work at all levels, locations with approved quality material like plywood / Metal for different RCC members of all necessary shapes, sizes and orientation, joints, elements as enumerated below, any other detail, including strutting, scaffolding, propping, bracing, fastener nails, wires, providing and applying de-shuttering oil; removal or otherwise supporting formwork for concrete items as indicated and include cost of holding the forms in place for the specified time period, required by the concrete in the forms to gain sufficient required/designed strength, deshuttering on specified duration after concreting, packing/closing of holes after concreting and deshuttering with approved material/grout, the rates for the above items shall include for all consumables such as shuttering oil, nails, thermocol, providing holes, cutouts, slits and depressions, labour for fixing adequate pipe sleeves at all indicated locations with all leads and lifts etc. all complete as per drawings, specifications as directed. The formwork / shuttering for providing construction joints in concrete shall not be measured seperately. | I36: =ROUND(IF(G36="R.O",0,SUM($H36*G36)),0) -> 0
A37: 3.1.1 | C37: In walls, In columns in a square / rectangular profile, In slabs, floor beams & lintel beams etc. | D37: In walls, In columns in a square / rectangular profile, In slabs, floor beams & lintel beams etc. | F37: Sqm | I37: =ROUND(IF(G37="R.O",0,SUM($H37*G37)),0) -> 0
A38: 3.1.2 | C38: In wall stiffeners & bands, sills, copings, bunds etc. | D38: In wall stiffeners & bands, sills, copings, bunds etc. | F38: Sqm | I38: =ROUND(IF(G38="R.O",0,SUM($H38*G38)),0) -> 0
A39: 4 | C39: Reinforcement Steel | D39: Reinforcement Steel | I39: =ROUND(IF(G39="R.O",0,SUM($H39*G39)),0) -> 0
A40: 4.1 | C40: steel reinforcement bars | D40: Providing and fixing in position steel reinforcement bars (tested & prime quality, no re-rolled steel shall be used) in all categories and for all heights, levels, locations etc. including straightening, cutting, bending, hooking, binding with 18 gauge galvanized binding wires and keeping it in position during concreting by means of stays, blocks, ties, spacers, chairs, hangars. The rate shall include for binding wire, cover blocks, labour, loading and un-loading charges, transporation & other incidental charges, testing charges by approved agency as per relevant IS code/specification. Only authorised laps, hangars, spacers, chairs shall be measured and paid as per IS 1200 etc. all complete as per drawings, specifications and as directed. Note :- Scope of work under this item requires the contractor to submit a bar bending schedule and carry out the work as per approved bar bending schedule only. | I40: =ROUND(IF(G40="R.O",0,SUM($H40*G40)),0) -> 0
A41: 4.1.1 | C41: TMT bars conforming to latest IS-1786, grade Fe-500 | D41: TMT bars conforming to latest IS-1786, grade Fe-500 | F41: MT | I41: =ROUND(IF(G41="R.O",0,SUM($H41*G41)),0) -> 0
...

Sheet ELECTRICAL ESTIMATE 
A1: Maa Mahishasur Mardani Mandir (Chattarpur, New Delhi)
A2: Electrical estimate
A3: A | B3: ELECTRICAL | E3: Supply and Installation
A4: SL.NO | B4: DESCRIPTION OF WORK | C4: QTY | D4: UNIT | E4: Rate (Rs.) | F4: amount (Rs.)
A5: 1 | B5: Distribution board
B6: Supplying, installing ,connecting testing and commissioning of the following industrial type double door horizontal / vertical type IP-43, IK09 with metal door and metallic lock, made of 1.2mm & 1.6mm thick CRCA sheet steel enclosed fully recessed /surface type, Miniature Circuit Breakers Distribution Boards (As per IEC 61439 & 61641) dust proof, vermin proof, with hinged and panel locks with key doors complete with MCB's ( above 32 amp microprocessor based) and inter-connection with copper wires, or copper tapes, cable glands / conduit entry bushes, bonding to earth and painting. Also provide separate neutral busbar for each phase. Provide separate Earth Links. Use pin type copper lugs or bimetallic lugs for connections of all wires.
B7: Dressing of distribution board
A8: i) | B8: Dressing of all incoming cables, outgoing wires shall be dressed properly with lugs. As per Methodology.
A9: ii) | B9: Numbering with ring type ferrule shall be provided for each outgoing cables / wires. For all outgoing and incoming cable. The cable have to be properly dressed.
A10: iii) | B10: All the incoming and outgoing cables shall be properly dressed by providing cable trunking as displayed in photographs (Trunking shall be paid separately)
A11: iv) | B11: D.B. charts shall be made in SLD form and pasted inside of D.B. covers.
A12: v) | B12: It shall be ensured that load balancing in each phase is done properly.
A13: vi) | B13: For all DB'S double earthing shall be provided and door will also earthed.
A14: vii) | B14: When required to be mounted on columns special fixing clamps / Channels shall be used. Welding / Drilling in the column shall not be allowed. DB have to placed as per the layout . Clearance is required before fixing the DB. Wiring loop for future maintenance is to be kept on both ends.
B15: Note- Each incoming and outgoing MCB's shall have Ics = 10 KA minimum
B16: All VTPN DB I/Cs are to be considered as RCBO. In TPN DBs, individual phase wise distribution is to be considered with DP RCBO In SPN DBs, DP RCBOs are to be considered in the I/C
A19: 2 | B19: 12Way TPN ( LDB-1 & LDB-2) | C19: 1 | D19: No | F19: =C19*E19 -> 0
B20: Incomer
B21: 63A FP MCB
B22: 3 Nos. 40 Amps, DP RCBO (100mA), for each phase
B23: Outgoing
B24: Each Phase Consisting of the following: -
B25: 10Nos. 10A /16A SP MCB
B26: Bus bars
B27: 1 set 100Amps, 415volts, 3 phase 4 wire colour coded Copper bus bars.
B28: Neutral Link
B29: Suitable for above outgoings.
B30: Earth Terminal
B31: Suitable for above outgoings.
A33: 3 | B33: POINT WIRING
A34: 3.1 | B34: Supplying materials and wiring for light point, fan points with fan box, exhaust points, 6 Amps plug sockets etc. with 2 x 2.5 sq.mm FRLS PVC insulated, flexible multistranded copper conductor wires laid in MS conduit in slabs, walls, above false ceiling alongwith 1 X 2.5 sq.mm FRLS PVC insulated, flexible multistranded copper continuous earth wire with all accessories, cutting chases in walls and making them good including providing 6 Amps modular type switches, sockets in boxes of suitable size (The box should be of adequate sizes to accommodate fan/ exhaust fan regulator wherever required) embedded in wall/ partition wall including circuit wiring with 2 x 2.5 sq.mm. FRLS PVC insulated flexible multistranded copper conductor along with one run of 2.5 sq.mm. FRLS PVC insulated flexible multistranded Copper earth continuity wire from respective MCB in DB to first point and making the electrical connection on either ends for the following points:(existing wiring to be used from existin light fixture to switch board )only loop wire used from existing point to new point
A35: a) | B35: One light point controlled by one 6 Amps modular switch. | C35: 8 | D35: Nos. | F35: =C35*E35 -> 0
A36: b) | B36: Two light points controlled by one 6 Amps modular switch. | C36: =4+6+3 -> 13 | D36: Nos. | F36: =C36*E36 -> 0
A37: c) | B37: Three light points controlled by one 6 Amps modular switch. | C37: 13 | D37: Nos. | F37: =C37*E37 -> 0
A38: d) | B38: Four light points controlled by one 6 Amps modular switch. | C38: 6 | D38: Nos. | F38: =C38*E38 -> 0
A39: e) | B39: Five light points controlled by one 6 Amps modular switch. | C39: 6 | D39: Nos. | F39: =C39*E39 -> 0
A40: f) | B40: Ceiling fan point controlled by one 6 Amps modular switch and one 100 W step type Electronic Regulator. | C40: 22 | D40: Nos. | F40: =C40*E40 -> 0
A41: g) | B41: Exhaust fan controlled by 1 No. 6 Amps modular switch | C41: 6 | D41: Nos. | F41: =C41*E41 -> 0
A42: 4 | B42: LIGHT FIXTURE
B43: Warranty of 5 Years for all light fixtures shall be provided on company’s letter head.
...

Sheet Washroom Fixtures 
